BEGIN:VCALENDAR
VERSION:2.0
PRODID:-//BrewBeagles - ECPv6.15.18//NONSGML v1.0//EN
CALSCALE:GREGORIAN
METHOD:PUBLISH
X-ORIGINAL-URL:https://brewbeagles.org
X-WR-CALDESC:Events for BrewBeagles
REFRESH-INTERVAL;VALUE=DURATION:PT1H
X-Robots-Tag:noindex
X-PUBLISHED-TTL:PT1H
BEGIN:VTIMEZONE
TZID:UTC
BEGIN:STANDARD
TZOFFSETFROM:+0000
TZOFFSETTO:+0000
TZNAME:UTC
DTSTART:20210101T000000
END:STANDARD
END:VTIMEZONE
BEGIN:VEVENT
DTSTART;TZID=UTC:20220911T100000
DTEND;TZID=UTC:20220911T160000
DTSTAMP:20260425T130830
CREATED:20220719T114600Z
LAST-MODIFIED:20220719T114600Z
UID:242365-1662890400-1662912000@brewbeagles.org
SUMMARY:Loudon County Pet Expo
DESCRIPTION:Since 2014\, this well loved family-friendly event returns in 2022.   The event will be held on Sunday\, September 11th\, from 10:00am – 4:00pm. Leashed dogs are welcome. BREW will be a vendor at the event\, so come bring your beagles to have a day of fun! Please visit the web site for more information: https://loudounpetexpo.com/
URL:https://brewbeagles.org/event/loudon-county-pet-expo/
LOCATION:Loudoun Pet Expo\, Franklin Park\, 17501 Franklin Park Dr\, Purcellville\, VA\, 20132\, United States
CATEGORIES:Exhibition
ATTACH;FMTTYPE=image/png:https://brewbeagles.org/wp-content/uploads/2022/06/Loudon-Pet-Expo.png
END:VEVENT
END:VCALENDAR