BEGIN:VCALENDAR
VERSION:2.0
PRODID:-//BrewBeagles - ECPv6.15.18//NONSGML v1.0//EN
CALSCALE:GREGORIAN
METHOD:PUBLISH
X-ORIGINAL-URL:https://brewbeagles.org
X-WR-CALDESC:Events for BrewBeagles
REFRESH-INTERVAL;VALUE=DURATION:PT1H
X-Robots-Tag:noindex
X-PUBLISHED-TTL:PT1H
BEGIN:VTIMEZONE
TZID:UTC
BEGIN:STANDARD
TZOFFSETFROM:+0000
TZOFFSETTO:+0000
TZNAME:UTC
DTSTART:20210101T000000
END:STANDARD
END:VTIMEZONE
BEGIN:VEVENT
DTSTART;TZID=UTC:20221029T120000
DTEND;TZID=UTC:20221029T150000
DTSTAMP:20260425T113620
CREATED:20220303T121219Z
LAST-MODIFIED:20221022T193844Z
UID:241702-1667044800-1667055600@brewbeagles.org
SUMMARY:CANCELLED: Adoption Day - Fulton\, MD
DESCRIPTION:CANCELLED: BREW will be hosting an Adoption Day in Fulton\, MD\, on October 29th\, 2022\, from noon until 3:00pm. We will be outside of the Hudson Coastal Restaurant at 11811 West Marketplace. Applicants who have already been approved to adopt from BREW will be able to adopt at the event. Volunteers will be available to talk to new applicants about our process and available dogs. Dogs who will be at the event will be indicated on the web site about a week in advance. Hope to see you there!
URL:https://brewbeagles.org/event/adoption-day-fulton-md/
LOCATION:Fulton\, MD\, 11811 West Marketplace\, Fulton\, MD\, 20759\, United States
CATEGORIES:Adoption
ATTACH;FMTTYPE=image/jpeg:https://brewbeagles.org/wp-content/uploads/2022/06/Sylvie4-2.jpg
END:VEVENT
END:VCALENDAR