BEGIN:VCALENDAR
VERSION:2.0
PRODID:-//BrewBeagles - ECPv6.15.18//NONSGML v1.0//EN
CALSCALE:GREGORIAN
METHOD:PUBLISH
X-ORIGINAL-URL:https://brewbeagles.org
X-WR-CALDESC:Events for BrewBeagles
REFRESH-INTERVAL;VALUE=DURATION:PT1H
X-Robots-Tag:noindex
X-PUBLISHED-TTL:PT1H
BEGIN:VTIMEZONE
TZID:UTC
BEGIN:STANDARD
TZOFFSETFROM:+0000
TZOFFSETTO:+0000
TZNAME:UTC
DTSTART:20230101T000000
END:STANDARD
END:VTIMEZONE
BEGIN:VEVENT
DTSTART;VALUE=DATE:20240715
DTEND;VALUE=DATE:20240720
DTSTAMP:20260422T080132
CREATED:20240613T133524Z
LAST-MODIFIED:20240613T133633Z
UID:242455-1721001600-1721433599@brewbeagles.org
SUMMARY:"Pets for Life" Humane Education Summer Camp
DESCRIPTION:
URL:https://brewbeagles.org/event/pets-for-life-humane-education-summer-camp/
LOCATION:Humane Society of Northern Virginia – Dumfries\, VA\, 17983 Dumfries Shopping Plaza\, Dumfries\, VA\, 22026\, United States
CATEGORIES:Charity
ATTACH;FMTTYPE=image/jpeg:https://brewbeagles.org/wp-content/uploads/2024/06/Pets-4-Life-Summer-Camp.jpg
END:VEVENT
END:VCALENDAR