BEGIN:VCALENDAR
VERSION:2.0
PRODID:-//BrewBeagles - ECPv6.15.18//NONSGML v1.0//EN
CALSCALE:GREGORIAN
METHOD:PUBLISH
X-ORIGINAL-URL:https://brewbeagles.org
X-WR-CALDESC:Events for BrewBeagles
REFRESH-INTERVAL;VALUE=DURATION:PT1H
X-Robots-Tag:noindex
X-PUBLISHED-TTL:PT1H
BEGIN:VTIMEZONE
TZID:UTC
BEGIN:STANDARD
TZOFFSETFROM:+0000
TZOFFSETTO:+0000
TZNAME:UTC
DTSTART:20230101T000000
END:STANDARD
END:VTIMEZONE
BEGIN:VEVENT
DTSTART;TZID=UTC:20240608T120000
DTEND;TZID=UTC:20240608T150000
DTSTAMP:20260422T080304
CREATED:20240303T144208Z
LAST-MODIFIED:20240526T133128Z
UID:254746-1717848000-1717858800@brewbeagles.org
SUMMARY:Adoption Day - Springfield\, VA
DESCRIPTION:BREW will be in Springfield\, VA\, at A Dog’s Day Out\, on June 8th\, 2024\, from noon until 3:00pm for an Adoption Day. Applicants who have already been approved to adopt from BREW will be able to adopt at the event. Volunteers will be available to talk to new applicants about our process and available dogs. Dogs who will be at the event will be indicated on the web site about a week in advance. Hope to see you there!
URL:https://brewbeagles.org/event/adoption-day-springfield-va-11/
LOCATION:Springfield\, 5425-B Port Royal Road\, Springfield\, VA\, 22151\, United States
CATEGORIES:Adoption
ATTACH;FMTTYPE=image/jpeg:https://brewbeagles.org/wp-content/uploads/2024/03/Caleb5.jpg
END:VEVENT
BEGIN:VEVENT
DTSTART;TZID=UTC:20240630T100000
DTEND;TZID=UTC:20240630T150000
DTSTAMP:20260422T080304
CREATED:20240613T134222Z
LAST-MODIFIED:20240613T134222Z
UID:256573-1719741600-1719759600@brewbeagles.org
SUMMARY:Low Cost Vaccine Clinic - Dumfries\, VA
DESCRIPTION:
URL:https://brewbeagles.org/event/low-cost-vaccine-clinic-dumfries-va/
LOCATION:Humane Society of Northern Virginia – Dumfries\, VA\, 17983 Dumfries Shopping Plaza\, Dumfries\, VA\, 22026\, United States
CATEGORIES:Charity
ATTACH;FMTTYPE=image/jpeg:https://brewbeagles.org/wp-content/uploads/2024/06/Low-Cost-Vaccine-Clinic.jpg
END:VEVENT
END:VCALENDAR