BEGIN:VCALENDAR
VERSION:2.0
PRODID:-//BrewBeagles - ECPv6.15.18//NONSGML v1.0//EN
CALSCALE:GREGORIAN
METHOD:PUBLISH
X-ORIGINAL-URL:https://brewbeagles.org
X-WR-CALDESC:Events for BrewBeagles
REFRESH-INTERVAL;VALUE=DURATION:PT1H
X-Robots-Tag:noindex
X-PUBLISHED-TTL:PT1H
BEGIN:VTIMEZONE
TZID:UTC
BEGIN:STANDARD
TZOFFSETFROM:+0000
TZOFFSETTO:+0000
TZNAME:UTC
DTSTART:20230101T000000
END:STANDARD
END:VTIMEZONE
BEGIN:VEVENT
DTSTART;TZID=UTC:20240908T100000
DTEND;TZID=UTC:20240908T160000
DTSTAMP:20260421T212617
CREATED:20230816T185614Z
LAST-MODIFIED:20240906T212828Z
UID:248939-1725789600-1725811200@brewbeagles.org
SUMMARY:Loudon County Pet Expo
DESCRIPTION:UPDATE 9-6-24: BREW will not be able to attend due to an unexpected illness. Enjoy the other vendors and activities! \n \nThe Loudoun County Pet Expo\, a family-friendly festival for pets and people\, will be held on Sunday\, September 8th\, from 10:00am – 4:00pm. Leashed dogs are welcome. Please visit the web site for more information: https://loudounpetexpo.com/
URL:https://brewbeagles.org/event/loudon-county-pet-expo-2/
LOCATION:Loudoun Pet Expo\, Franklin Park\, 17501 Franklin Park Dr\, Purcellville\, VA\, 20132\, United States
CATEGORIES:Exhibition
ATTACH;FMTTYPE=image/jpeg:https://brewbeagles.org/wp-content/uploads/2023/08/Pet-Expo-1.jpg
END:VEVENT
END:VCALENDAR